BEGIN:VCALENDAR
VERSION:2.0
PRODID:-//eventon.com NONSGML v1.0//EN
CALSCALE:GREGORIAN
METHOD:PUBLISH
BEGIN:VEVENT
UID:69e8c3854314f
DTSTAMP:20260422T124805Z
DTSTART:20250508T170000Z
DTEND:20250508T180000Z
LOCATION:
SUMMARY:Virtual Café: Our Favorite Tools Share Fair
DESCRIPTION:Speakers: Kamilah Martin\,  Managing Director\,  NNCG and Found
 er &amp; CEO\,  Katalyst Join us for an informal\,  collaborative session w
 here we will swap insights on the tools\,  platforms\,  and tech stacks pow
 ering our consulting practices. Whether you&#8217;re looking to discover ne
 w resources\,  share your favorite finds\,  or simply meet fellow consultan
 ts\, [..]\nhttps://nncg.org/events/building-your-brand-and-marketing-your-w
 ork-3-3-2-3/
URL:https://nncg.org/events/building-your-brand-and-marketing-your-work-3-3-2-3/
END:VEVENT
END:VCALENDAR