BEGIN:VCALENDAR
VERSION:2.0
PRODID:-//eventon.com NONSGML v1.0//EN
CALSCALE:GREGORIAN
METHOD:PUBLISH
BEGIN:VEVENT
UID:69eb4de778b9e
DTSTAMP:20260424T110303Z
DTSTART:20260520T170000Z
DTEND:20260520T180000Z
LOCATION:
SUMMARY:How to Talk Bridgey 2.0: Using Civic Language Data to Strengthen Funder Strategy
DESCRIPTION:May 20\,  2026 &#8211; 1:00 &#8211; 2:00 PM Eastern In a polari
 zed environment\,  communication that only works inside familiar audiences 
 limits impact. In this session\,  Dr. Siri Erickson (PACE) shares insights 
 from How to Talk Bridgey 2.0\,  grounded in new 2025 national data on how A
 mericans perceive civic and democratic[..]\nhttps://nncg.org/events/how-to-
 talk-bridgey-2-0-using-civic-language-data-to-strengthen-funder-strategy/
URL:https://nncg.org/events/how-to-talk-bridgey-2-0-using-civic-language-data-to-strengthen-funder-strategy/
END:VEVENT
END:VCALENDAR